BEGIN:VCALENDAR
VERSION:2.0
PRODID:-//بلدية طرابلس  المركز - ECPv6.2.4//NONSGML v1.0//EN
CALSCALE:GREGORIAN
METHOD:PUBLISH
X-WR-CALNAME:بلدية طرابلس  المركز
X-ORIGINAL-URL:https://tripoli.gov.ly
X-WR-CALDESC:Events for بلدية طرابلس  المركز
REFRESH-INTERVAL;VALUE=DURATION:PT1H
X-Robots-Tag:noindex
X-PUBLISHED-TTL:PT1H
BEGIN:VTIMEZONE
TZID:UTC
BEGIN:STANDARD
TZOFFSETFROM:+0000
TZOFFSETTO:+0000
TZNAME:UTC
DTSTART:20230101T000000
END:STANDARD
END:VTIMEZONE
BEGIN:VEVENT
DTSTART;TZID=UTC:20240103T000000
DTEND;TZID=UTC:20240103T000000
DTSTAMP:20260420T021210
CREATED:20240103T165820Z
LAST-MODIFIED:20240103T174700Z
UID:4477-1704240000-1704240000@tripoli.gov.ly
SUMMARY:انطلاق ماراثون الشهر الوردي للتوعية بسرطان الثدي
DESCRIPTION:انطلاق ماراثون الشهر الوردي للتوعية بسرطان الثدي\n\n\n\n\n\n\n\n\n\nتسر إدارة التنمية المجتمعية طرابلس المـركز\nأن تعلن عن انطلاق ماراثون الشهر الوردي للتوعية بسرطان الثدي\n\n\nتعد فعالية ماراثون الشهر الوردي فرصة مثالية للمجتمع بأكمله للمشاركة في حملة التوعية حول سرطان الثدي وأهمية الكشف المبكر والوقاية
URL:https://tripoli.gov.ly/event/%d8%a7%d9%86%d8%b7%d9%84%d8%a7%d9%82-%d9%85%d8%a7%d8%b1%d8%a7%d8%ab%d9%88%d9%86-%d8%a7%d9%84%d8%b4%d9%87%d8%b1-%d8%a7%d9%84%d9%88%d8%b1%d8%af%d9%8a-%d9%84%d9%84%d8%aa%d9%88%d8%b9%d9%8a%d8%a9-%d8%a8/
CATEGORIES:الاخبار,خدمات شؤون المراه,نشاطات
ATTACH;FMTTYPE=image/jpeg:https://tripoli.gov.ly/wp-content/uploads/2023/11/382953376_710958004402570_187073160524095699_n.jpeg
END:VEVENT
BEGIN:VEVENT
DTSTART;TZID=UTC:20231220T080000
DTEND;TZID=UTC:20231220T170000
DTSTAMP:20260420T021210
CREATED:20231220T090657Z
LAST-MODIFIED:20240103T165149Z
UID:4440-1703059200-1703091600@tripoli.gov.ly
SUMMARY:دورة حاسب الي  للموظفات  الجدد
DESCRIPTION:  \n \n  \nكمبلمكبلبيمكيكمططكميكميطدكم \n  \n  \n 
URL:https://tripoli.gov.ly/event/%d8%af%d9%88%d8%b1%d8%a9-%d8%ad%d8%a7%d8%b3%d8%a8-%d8%a7%d9%84%d9%8a-%d9%84%d9%84%d9%85%d9%88%d8%b8%d9%81%d8%a7%d8%aa-%d8%a7%d9%84%d8%ac%d8%af%d8%af-2/
CATEGORIES:خدمات شؤون المراه,نشاطات
ATTACH;FMTTYPE=image/jpeg:https://tripoli.gov.ly/wp-content/uploads/2023/11/1212.jpeg
END:VEVENT
BEGIN:VEVENT
DTSTART;TZID=UTC:20231114T080000
DTEND;TZID=UTC:20231114T170000
DTSTAMP:20260420T021210
CREATED:20231114T074137Z
LAST-MODIFIED:20240103T165159Z
UID:3782-1699948800-1699981200@tripoli.gov.ly
SUMMARY:دورة تدريبية في اطار التعاون المشترك بين مكتب شؤون أصحاب الهمم بلدية طرابلس
DESCRIPTION:تنفيذ شركة خطوات الإبداع للاستشارات والتدريب وتقنية المعلومات،، إيمانا منا بخدمة المجتمع عقدت بمقر الشركة دورة تدريبية في اطار التعاون المشترك بين مكتب شؤون أصحاب الهمم بلدية طرابلس المركز وإدارة تعليم واندماج الفئات الخاصة بوزارة التربية والتعليم ،من خلال البناء المؤسسي تنمية وتطوير القدرات الفردية للكادر الوظيفي بالمكتب في طرق التعامل مع ذوي الاعاقة لتقديم افضل الخدمات لهم علي اسس عملية حديثه تيسر وتخدم مصالحهم داخل البلدية . انطلقت يوم الاحد 2023/10/29 بشركة خطوات الابداع للاستشارات والتدريب وتقنية المعلومات بحي الزهور طريق المطار ،دورة تدريببة في مهارات التعامل مع ذوي الاعاقة بأستخدام البرمحة التقنية بحضور الكادر الوظيفي بالمكتب والكادر الوظيفي بوزارة التربية والتعليم بالقاء الاستاد الشارف المزوغي .
URL:https://tripoli.gov.ly/event/%d8%af%d9%88%d8%b1%d8%a9-%d8%aa%d8%af%d8%b1%d9%8a%d8%a8%d9%8a%d8%a9-%d9%81%d9%8a-%d8%a7%d8%b7%d8%a7%d8%b1-%d8%a7%d9%84%d8%aa%d8%b9%d8%a7%d9%88%d9%86-%d8%a7%d9%84%d9%85%d8%b4%d8%aa%d8%b1%d9%83-%d8%a8/
CATEGORIES:خدمات اصحاب الهمم,نشاطات
ATTACH;FMTTYPE=image/jpeg:https://tripoli.gov.ly/wp-content/uploads/2023/11/1698773577121.jpeg
END:VEVENT
BEGIN:VEVENT
DTSTART;TZID=UTC:20231113T000000
DTEND;TZID=UTC:20231113T000000
DTSTAMP:20260420T021210
CREATED:20231113T115520Z
LAST-MODIFIED:20231113T115916Z
UID:3720-1699833600-1699833600@tripoli.gov.ly
SUMMARY:انطلاق ماراثون الشهر الوردي للتوعية بسرطان الثدي
DESCRIPTION:تسر إدارة التنمية المجتمعية طرابلس المـركز\nأن تعلن عن انطلاق ماراثون الشهر الوردي للتوعية بسرطان الثدي\n\n\nتعد فعالية ماراثون الشهر الوردي فرصة مثالية للمجتمع بأكمله للمشاركة في حملة التوعية حول سرطان الثدي وأهمية الكشف المبكر والوقاية\nيمكن للجميع المشاركة بغض النظر عن المستوى البدني، حيث الماراثون ” رياضة المشي “\n\n\nسيتم تنظيم الماراثون غداً السبت ، الموافق 25 /2023 حيث ستكون نقطة انطلاق المسار المحددة للمشاركة من ” القبة الفلكية نقطة الوصول ميدان الشهداء “\n\n\nنأمل أن ينضم الجميع إلى في هذا الحدث الرائع ويدعم في الجهود لمكافحة سرطان الثدي. انضموا اليوم وشاركوا في ماراثون الشهر الوردي وساهموا في تحقيق الفرق\n\n\nمعًا، يمكننا تحقيق التغيير وتقديم الأمل للنساء المتأثرات بهذا المرض القاتل ، شاركوا في ماراثون الشهر الوردي وكونوا جزءًا من حملة التوعية والتضامن. سوف نحدث فرقًا حقيقيًا في حياة الناس ونساهم في بناء مجتمع أكثر صحة ووعياً.
URL:https://tripoli.gov.ly/event/%d8%a7%d9%84%d9%84%d9%82%d8%a7%d8%a1-%d8%a7%d9%84%d9%85%d8%ac%d8%aa%d9%85%d8%b9%d9%8a-%d8%a7%d9%84%d8%a7%d9%88%d9%84-2/
CATEGORIES:الاحداث,نشاطات
ATTACH;FMTTYPE=image/jpeg:https://tripoli.gov.ly/wp-content/uploads/2023/11/382953376_710958004402570_187073160524095699_n.jpeg
END:VEVENT
BEGIN:VEVENT
DTSTART;TZID=UTC:20231018T080000
DTEND;TZID=UTC:20231018T080000
DTSTAMP:20260420T021210
CREATED:20231018T162802Z
LAST-MODIFIED:20240103T165222Z
UID:2637-1697616000-1697616000@tripoli.gov.ly
SUMMARY:دورة خياطة للسيدات
DESCRIPTION:دورة خياطة لسيدات محلة المنصورة\n\n\nالدورة  التدريبية الاولي  للخياطة  المجانية المستهدف  بها  سيدات  محلة المنصورة  حيث ستكون الدورة لمدة عشرة  ايام متواصلة ويكون  التدريب  العملي  لها  بشكل  يومي \nالدورة  التدريبية الاولي  للخياطة  المجانية المستهدف  بها  سيدات  محلة المنصورة  حيث ستكون الدورة لمدة عشرة  ايام متواصلة ويكون  التدريب  العملي  لها  بشكل  يومي
URL:https://tripoli.gov.ly/event/%d8%af%d9%88%d8%b1%d8%a9-%d8%ae%d9%8a%d8%a7%d8%b7%d8%a9-%d9%84%d9%84%d8%b3%d9%8a%d8%af%d8%a7%d8%aa/
LOCATION:المعهد الوطني للخياطة – المنصورة\, طرابلس- ليبيا
CATEGORIES:خدمات شؤون المراه,نشاطات
ATTACH;FMTTYPE=image/jpeg:https://tripoli.gov.ly/wp-content/uploads/2021/05/gallery-1.jpg
END:VEVENT
BEGIN:VEVENT
DTSTART;TZID=UTC:20231018T000000
DTEND;TZID=UTC:20231018T000000
DTSTAMP:20260420T021210
CREATED:20231018T171642Z
LAST-MODIFIED:20231113T111103Z
UID:2649-1697587200-1697587200@tripoli.gov.ly
SUMMARY:دورة حاسب الي للسيدات
DESCRIPTION:دورة حاسب  الي لسيدات محلة المنصورة\n\n\nالدورة  التدريبية الاولي  للخياطة  المجانية المستهدف  بها  سيدات  محلة المنصورة  حيث ستكون الدورة لمدة عشرة  ايام متواصلة ويكون  التدريب  العملي  لها  بشكل  يومي \nالدورة  التدريبية الاولي  للخياطة  المجانية المستهدف  بها  سيدات  محلة المنصورة  حيث ستكون الدورة لمدة عشرة  ايام متواصلة ويكون  التدريب  العملي  لها  بشكل  يومي
URL:https://tripoli.gov.ly/event/%d8%af%d9%88%d8%b1%d8%a9-%d8%ae%d9%8a%d8%a7%d8%b7%d8%a9-%d9%84%d9%84%d8%b3%d9%8a%d8%af%d8%a7%d8%aa-2/
CATEGORIES:خدمات شؤون المراه,نشاطات
ATTACH;FMTTYPE=image/jpeg:https://tripoli.gov.ly/wp-content/uploads/2023/11/382953376_710958004402570_187073160524095699_n.jpeg
END:VEVENT
BEGIN:VEVENT
DTSTART;TZID=UTC:20231008T080000
DTEND;TZID=UTC:20231008T170000
DTSTAMP:20260420T021210
CREATED:20231008T212726Z
LAST-MODIFIED:20231113T110622Z
UID:1406-1696752000-1696784400@tripoli.gov.ly
SUMMARY:اللقاء المجتمعي الاول
DESCRIPTION:
URL:https://tripoli.gov.ly/event/%d8%a7%d9%84%d9%84%d9%82%d8%a7%d8%a1-%d8%a7%d9%84%d9%85%d8%ac%d8%aa%d9%85%d8%b9%d9%8a-%d8%a7%d9%84%d8%a7%d9%88%d9%84/
CATEGORIES:الاحداث,نشاطات
ATTACH;FMTTYPE=image/jpeg:https://tripoli.gov.ly/wp-content/uploads/2021/06/schedule-8.jpg
END:VEVENT
END:VCALENDAR